BEGIN:VCALENDAR
VERSION:2.0
PRODID:-//Indy Modern Quilt Guild - ECPv6.15.20//NONSGML v1.0//EN
CALSCALE:GREGORIAN
METHOD:PUBLISH
X-WR-CALNAME:Indy Modern Quilt Guild
X-ORIGINAL-URL:https://www.indymqg.com
X-WR-CALDESC:Events for Indy Modern Quilt Guild
REFRESH-INTERVAL;VALUE=DURATION:PT1H
X-Robots-Tag:noindex
X-PUBLISHED-TTL:PT1H
BEGIN:VTIMEZONE
TZID:America/Indiana/Indianapolis
BEGIN:DAYLIGHT
TZOFFSETFROM:-0500
TZOFFSETTO:-0400
TZNAME:EDT
DTSTART:20230312T070000
END:DAYLIGHT
BEGIN:STANDARD
TZOFFSETFROM:-0400
TZOFFSETTO:-0500
TZNAME:EST
DTSTART:20231105T060000
END:STANDARD
BEGIN:DAYLIGHT
TZOFFSETFROM:-0500
TZOFFSETTO:-0400
TZNAME:EDT
DTSTART:20240310T070000
END:DAYLIGHT
BEGIN:STANDARD
TZOFFSETFROM:-0400
TZOFFSETTO:-0500
TZNAME:EST
DTSTART:20241103T060000
END:STANDARD
BEGIN:DAYLIGHT
TZOFFSETFROM:-0500
TZOFFSETTO:-0400
TZNAME:EDT
DTSTART:20250309T070000
END:DAYLIGHT
BEGIN:STANDARD
TZOFFSETFROM:-0400
TZOFFSETTO:-0500
TZNAME:EST
DTSTART:20251102T060000
END:STANDARD
END:VTIMEZONE
BEGIN:VEVENT
DTSTART;TZID=America/Indiana/Indianapolis:20240623T140000
DTEND;TZID=America/Indiana/Indianapolis:20240623T160000
DTSTAMP:20260423T171255
CREATED:20240618T213103Z
LAST-MODIFIED:20240619T005008Z
UID:1921-1719151200-1719158400@www.indymqg.com
SUMMARY:June 2024 Meeting!
DESCRIPTION:June Meeting: Carry In and Fat Quarter Mystery Bag Sale. Bring a snack to share if you’d like! \n\n\n\nFat Quarter Mystery Bag Sale – create a fat quarter mystery bag by placing at least 3 fat quarters (18” x 22”) in a bag that conceals the contents. Bags cost $5 each. After initial purchase\, bag contents will be revealed. Cash\, check\, Venmo\, and Paypal accepted! \n\n\n\nFollow-Up mini fat quarter quilt challenge: use the contents of your mystery bag to create a quilt that’s 18″ x 22″ to share and win prizes at our October meeting.
URL:https://www.indymqg.com/event/june-2024-meeting/
LOCATION:Glendale Branch\, Indianapolis Public Library\, 3660 E 62nd St\, Indianapolis\, IN\, 46220\, United States
END:VEVENT
BEGIN:VEVENT
DTSTART;TZID=America/Indiana/Indianapolis:20240503T180000
DTEND;TZID=America/Indiana/Indianapolis:20240503T200000
DTSTAMP:20260423T171255
CREATED:20231017T183246Z
LAST-MODIFIED:20240316T220655Z
UID:1807-1714759200-1714766400@www.indymqg.com
SUMMARY:Exhibition 2024 Opening Reception
DESCRIPTION:Join us on Friday\, May 3\, for the opening reception of our latest exhibition. Drop in between 6:00 – 8:00 PM to mingle with local artists in the exhibition\, enjoy refreshments and peruse the quilts made by members of the Indy Modern Quilt Guild.
URL:https://www.indymqg.com/event/exhibition-2024-opening-reception/
LOCATION:Garfield Park Arts Center\, 2432 Conservatory Dr\, Indianapolis\, IN\, 46203\, United States
CATEGORIES:Special Events
END:VEVENT
END:VCALENDAR