BEGIN:VCALENDAR
VERSION:2.0
PRODID:-//Indy Modern Quilt Guild - ECPv6.15.20//NONSGML v1.0//EN
CALSCALE:GREGORIAN
METHOD:PUBLISH
X-ORIGINAL-URL:https://www.indymqg.com
X-WR-CALDESC:Events for Indy Modern Quilt Guild
REFRESH-INTERVAL;VALUE=DURATION:PT1H
X-Robots-Tag:noindex
X-PUBLISHED-TTL:PT1H
BEGIN:VTIMEZONE
TZID:America/Indiana/Indianapolis
BEGIN:DAYLIGHT
TZOFFSETFROM:-0500
TZOFFSETTO:-0400
TZNAME:EDT
DTSTART:20230312T070000
END:DAYLIGHT
BEGIN:STANDARD
TZOFFSETFROM:-0400
TZOFFSETTO:-0500
TZNAME:EST
DTSTART:20231105T060000
END:STANDARD
BEGIN:DAYLIGHT
TZOFFSETFROM:-0500
TZOFFSETTO:-0400
TZNAME:EDT
DTSTART:20240310T070000
END:DAYLIGHT
BEGIN:STANDARD
TZOFFSETFROM:-0400
TZOFFSETTO:-0500
TZNAME:EST
DTSTART:20241103T060000
END:STANDARD
BEGIN:DAYLIGHT
TZOFFSETFROM:-0500
TZOFFSETTO:-0400
TZNAME:EDT
DTSTART:20250309T070000
END:DAYLIGHT
BEGIN:STANDARD
TZOFFSETFROM:-0400
TZOFFSETTO:-0500
TZNAME:EST
DTSTART:20251102T060000
END:STANDARD
BEGIN:DAYLIGHT
TZOFFSETFROM:-0500
TZOFFSETTO:-0400
TZNAME:EDT
DTSTART:20260308T070000
END:DAYLIGHT
BEGIN:STANDARD
TZOFFSETFROM:-0400
TZOFFSETTO:-0500
TZNAME:EST
DTSTART:20261101T060000
END:STANDARD
END:VTIMEZONE
BEGIN:VEVENT
DTSTART;TZID=America/Indiana/Indianapolis:20251116T140000
DTEND;TZID=America/Indiana/Indianapolis:20251116T160000
DTSTAMP:20260423T125132
CREATED:20250103T001530Z
LAST-MODIFIED:20250103T001723Z
UID:2096-1763301600-1763308800@www.indymqg.com
SUMMARY:November 2025 Meeting
DESCRIPTION:Guest Speaker Deborah Boschert \n\n\n\nExploring Art Collage– Hybrid Meeting \n\n\n\nDeborah shares her most recent art quilts and talks about developing her own personal style.  Tons of examples of her favorite techniques\, materials and themes.  She’ll tell stories about exciting collaborations\, surprising discoveries and finding inspiration in unexpected places.
URL:https://www.indymqg.com/event/november-2025-meeting/
LOCATION:Glendale branch\, Indy Public Library\, 3360 E 62nd Street\, Indianapolis\, IN\, 46220\, United States
END:VEVENT
BEGIN:VEVENT
DTSTART;TZID=America/Indiana/Indianapolis:20251019T140000
DTEND;TZID=America/Indiana/Indianapolis:20251019T160000
DTSTAMP:20260423T125132
CREATED:20250103T001058Z
LAST-MODIFIED:20250113T021520Z
UID:2092-1760882400-1760889600@www.indymqg.com
SUMMARY:October 2025 Meeting
DESCRIPTION:Guest Speaker Timna Tarr \n\n\n\nFlying Colors Trunk Show- Hybrid Meeting \n\n\n\nTimna is known for making fun\, colorful\, award-winning quilts. Join her for a trunk show of her quilting journey. She talks about her design and color choices\, as well as the personal stories behind the quilts.
URL:https://www.indymqg.com/event/october-2025-meeting/
LOCATION:Glendale branch\, Indy Public Library\, 3360 E 62nd Street\, Indianapolis\, IN\, 46220\, United States
END:VEVENT
BEGIN:VEVENT
DTSTART;TZID=America/Indiana/Indianapolis:20250921T140000
DTEND;TZID=America/Indiana/Indianapolis:20250921T160000
DTSTAMP:20260423T125132
CREATED:20250103T000652Z
LAST-MODIFIED:20250103T000704Z
UID:2090-1758463200-1758470400@www.indymqg.com
SUMMARY:September 2025 Meeting
DESCRIPTION:Community Outreach Quilt Sew Day- In Person Only \n\n\n\nQuiltCon is right around the corner and join us as we start sewing our Community Outreach Quilt.  These quilts are displayed and then sold at QuiltCon 2026 and the proceeds benefit local non-profit organizations.  Bring your sewing machine\, extension cord and supplies.
URL:https://www.indymqg.com/event/september-2025-meeting/
LOCATION:Glendale branch\, Indy Public Library\, 3360 E 62nd Street\, Indianapolis\, IN\, 46220\, United States
END:VEVENT
BEGIN:VEVENT
DTSTART;TZID=America/Indiana/Indianapolis:20250817T140000
DTEND;TZID=America/Indiana/Indianapolis:20250817T160000
DTSTAMP:20260423T125132
CREATED:20250103T000456Z
LAST-MODIFIED:20250103T000456Z
UID:2088-1755439200-1755446400@www.indymqg.com
SUMMARY:August 2025 Meeting
DESCRIPTION:Guest Speaker Susanne Ellman (IMQG Member)  \n\n\n\nRules are Made to be Broken!- Art Quilt Trunk Show – In Person Only \n\n\n\nJoin IMQG member\, Susanne Ellman\, as she takes you on her quilting journey\, showing her amazing art quilts that feature her own designs she has made throughout the years.  In this informative trunk show\, filled with humor and inspiration\, she’ll talk about her designs and the stories behind her quilts.  Susanne will share how working in series with non-traditional fabrics\, accepting challenges and entering exhibits helps keep her creative juices flowing.  You are encouraged to ask questions\, and along the way\, you will realize that the best results happen when you ignore the “rules” and branch out into the unexpected.
URL:https://www.indymqg.com/event/august-2025-meeting/
LOCATION:Glendale branch\, Indy Public Library\, 3360 E 62nd Street\, Indianapolis\, IN\, 46220\, United States
END:VEVENT
BEGIN:VEVENT
DTSTART;TZID=America/Indiana/Indianapolis:20250720T140000
DTEND;TZID=America/Indiana/Indianapolis:20250720T160000
DTSTAMP:20260423T125132
CREATED:20250103T000233Z
LAST-MODIFIED:20250103T000233Z
UID:2086-1753020000-1753027200@www.indymqg.com
SUMMARY:July 2025 Meeting
DESCRIPTION:Guest Speaker Theresa Benson\, The AI Quilter \n\n\n\nWhen Technology Meets Tradition – Hybrid Meeting \n\n\n\nDoes the concept of AI scare you?  Let Theresa take you on a journey that will help explain how AI works\, what to expect with AI\, what to watch out for and how to use this technology in creative endeavors like quilting.  Theresa will walk you through a live demonstration of AI where you will create your own AI generated image.  Leave her discussion feeling empowered and curious.
URL:https://www.indymqg.com/event/july-2025-meeting/
LOCATION:Glendale branch\, Indy Public Library\, 3360 E 62nd Street\, Indianapolis\, IN\, 46220\, United States
END:VEVENT
BEGIN:VEVENT
DTSTART;TZID=America/Indiana/Indianapolis:20250622T140000
DTEND;TZID=America/Indiana/Indianapolis:20250622T160000
DTSTAMP:20260423T125132
CREATED:20250102T235624Z
LAST-MODIFIED:20250102T235624Z
UID:2082-1750600800-1750608000@www.indymqg.com
SUMMARY:June 2025 Meeting
DESCRIPTION:Block Printing Workshop led by Laura Houston (IMQG Member) In Person Only \n\n\n\nJoin us in learning how to create your own block for printing on fabric.  Supply list to be provided soon.
URL:https://www.indymqg.com/event/june-2025-meeting/
LOCATION:Glendale branch\, Indy Public Library\, 3360 E 62nd Street\, Indianapolis\, IN\, 46220\, United States
END:VEVENT
BEGIN:VEVENT
DTSTART;TZID=America/Indiana/Indianapolis:20250518T140000
DTEND;TZID=America/Indiana/Indianapolis:20250518T160000
DTSTAMP:20260423T125132
CREATED:20250102T235139Z
LAST-MODIFIED:20250102T235149Z
UID:2079-1747576800-1747584000@www.indymqg.com
SUMMARY:May 2025 Meeting
DESCRIPTION:Guest Speaker Patricia Belyea of Okan Arts \n\n\n\nAlluring World of Japanese Yukata Quilts – Hybrid Meeting \n\n\n\nJoin Patricia as she takes your guild to Japan for a flashback of the Tokyo Quilt Festival\, a tour of the 2022 Yokohama Quilt Show\, and a visit to a traditional chusen-dyeing workshop. Patricia finishes with a show of her own quilts\, made with vintage Japanese cottons\, and talks about how these special fabrics inspired her.
URL:https://www.indymqg.com/event/may-2025-meeting/
LOCATION:Glendale branch\, Indy Public Library\, 3360 E 62nd Street\, Indianapolis\, IN\, 46220\, United States
END:VEVENT
BEGIN:VEVENT
DTSTART;TZID=America/Indiana/Indianapolis:20250427T140000
DTEND;TZID=America/Indiana/Indianapolis:20250427T160000
DTSTAMP:20260423T125132
CREATED:20250102T234623Z
LAST-MODIFIED:20250102T234623Z
UID:2074-1745762400-1745769600@www.indymqg.com
SUMMARY:April 2025 Meeting
DESCRIPTION:Rope Bowl Workshop led by Debby Polley (IMQG Member) In Person Only \n\n\n\nJoin us in learning how to make a rope bowl!  Bring your machine (with a zigzag stitch)\, notions and creativity.  Supply list to be provided soon
URL:https://www.indymqg.com/event/april-2025-meeting/
LOCATION:Glendale branch\, Indy Public Library\, 3360 E 62nd Street\, Indianapolis\, IN\, 46220\, United States
END:VEVENT
BEGIN:VEVENT
DTSTART;TZID=America/Indiana/Indianapolis:20250316T140000
DTEND;TZID=America/Indiana/Indianapolis:20250316T160000
DTSTAMP:20260423T125132
CREATED:20250102T233728Z
LAST-MODIFIED:20250102T233728Z
UID:2069-1742133600-1742140800@www.indymqg.com
SUMMARY:March 2025 Meeting
DESCRIPTION:Guest Speaker Kena Tangi Dorsey \n\n\n\nThe Big\, Bold and Beautiful – Using African Prints in Quilts – Hybrid Meeting \n\n\n\nWe love them and are drawn to them when we see them\, but sometimes those big\, bright\, bold prints can seem daunting or even intimidating to use. But\, quilters\, you no longer have to be scared to use them and cut into them.  In this program Kena will share inspiration & ideas for incorporating those vivacious African wax prints into your quilt projects. Using samples from modern\, applique and traditional patterns\, she will point out ways the fabric was used and show how they can really make any quilt shout with joy!  Kena will give a brief description of the different types of African fabrics and depending on the kind of bed\, wall or art quilt you are creating\, and share recommendations on what types might work best.  This lecture will free you up to try something new and give you permission to break all the quilting color-rules!
URL:https://www.indymqg.com/event/march-2025-meeting/
LOCATION:Glendale branch\, Indy Public Library\, 3360 E 62nd Street\, Indianapolis\, IN\, 46220\, United States
END:VEVENT
BEGIN:VEVENT
DTSTART;TZID=America/Indiana/Indianapolis:20250216T140000
DTEND;TZID=America/Indiana/Indianapolis:20250216T160000
DTSTAMP:20260423T125132
CREATED:20250102T232755Z
LAST-MODIFIED:20250216T143345Z
UID:2065-1739714400-1739721600@www.indymqg.com
SUMMARY:February 2025 Meeting MOVED TO VIRTUAL
DESCRIPTION:Name Tag Workshop Lead by Nicole Carey (IMQG Member) MOVED TO VIRTUAL \n\n\n\nJoin us in creating your own personalized name tag!  Name tag will be used for future door prizes and events.  Bring your sewing machine\, notions\, and some inspiration for this sewing day.  More detailed supply list will be coming soon.
URL:https://www.indymqg.com/event/february-meeting/
LOCATION:Glendale branch\, Indy Public Library\, 3360 E 62nd Street\, Indianapolis\, IN\, 46220\, United States
END:VEVENT
BEGIN:VEVENT
DTSTART;TZID=America/Indiana/Indianapolis:20250119T140000
DTEND;TZID=America/Indiana/Indianapolis:20250119T160000
DTSTAMP:20260423T125132
CREATED:20250102T232311Z
LAST-MODIFIED:20250102T233440Z
UID:2059-1737295200-1737302400@www.indymqg.com
SUMMARY:January 2025 Meeting
DESCRIPTION:Guest Speaker Jenny Kae Parks  \n\n\n\nScrappy and Happy? Scrap Therapy for the Reluctant- Hybrid meeting \n\n\n\nIn the world\, there exists two types of individuals: those who harbor disdain for scrap quilts and those who hold a deep affection for them. Join us for this captivating lecture\, where Jenny recounts her personal journey from scrap quilting skeptic to passionate advocate. Bid farewell to negativity and embark on a journey of rediscovery as you learn to embrace the beauty of scrap quilts once more!
URL:https://www.indymqg.com/event/january-2025-meeting/
LOCATION:Glendale branch\, Indy Public Library\, 3360 E 62nd Street\, Indianapolis\, IN\, 46220\, United States
END:VEVENT
BEGIN:VEVENT
DTSTART;TZID=America/Indiana/Indianapolis:20241215T140000
DTEND;TZID=America/Indiana/Indianapolis:20241215T160000
DTSTAMP:20260423T125132
CREATED:20240811T141545Z
LAST-MODIFIED:20240811T141545Z
UID:1997-1734271200-1734278400@www.indymqg.com
SUMMARY:December 2024 Meeting!
DESCRIPTION:December Meeting: Winter Party! Join us to celebrate the conclusion to another fantastic year at the IMQG. Bring your mug rugs / coasters to swap in our gift exchange\, enjoy refreshments\, and play some games! \n\n\n\nThis event is in person only at the Glendale Branch of the Indianapolis Public Library. \n\n\n\nWe welcome visitors to our meetings – it’s a great way to check out the IMQG and get more information about membership. Zoom links to hybrid meetings are sent to members prior to meetings – please reach out to board@indymqg.com to request a link to attend virtually as a guest. We look forward to seeing you there!
URL:https://www.indymqg.com/event/december-2024-meeting/
LOCATION:Glendale Branch\, Indianapolis Public Library\, 3660 E 62nd St\, Indianapolis\, IN\, 46220\, United States
END:VEVENT
BEGIN:VEVENT
DTSTART;TZID=America/Indiana/Indianapolis:20241117T140000
DTEND;TZID=America/Indiana/Indianapolis:20241117T160000
DTSTAMP:20260423T125132
CREATED:20240709T141902Z
LAST-MODIFIED:20240811T141208Z
UID:1941-1731852000-1731859200@www.indymqg.com
SUMMARY:November 2024 Meeting!
DESCRIPTION:November Meeting: Open Sew Day – join us for some sewing and sew-cializing! We will provide a foundation paper piece mug rug pattern for making coasters for the gift exchange at the December holiday party. Come make some coasters\, or work on a personal project! Bring your machines\, extension cords\, and basic/preferred sewing supplies. \n\n\n\nThis event is in person only at the Glendale Branch of the Indianapolis Public Library. \n\n\n\nWe welcome visitors to our meetings – it’s a great way to check out the IMQG and get more information about membership. Zoom links to hybrid meetings are sent to members prior to meetings – please reach out to board@indymqg.com to request a link to attend virtually as a guest. We look forward to seeing you there!
URL:https://www.indymqg.com/event/november-2024-meeting/
LOCATION:Glendale Branch\, Indianapolis Public Library\, 3660 E 62nd St\, Indianapolis\, IN\, 46220\, United States
END:VEVENT
BEGIN:VEVENT
DTSTART;TZID=America/Indiana/Indianapolis:20241020T140000
DTEND;TZID=America/Indiana/Indianapolis:20241020T160000
DTSTAMP:20260423T125132
CREATED:20240709T141721Z
LAST-MODIFIED:20240811T140135Z
UID:1939-1729432800-1729440000@www.indymqg.com
SUMMARY:October 2024 Meeting!
DESCRIPTION:Join us for a virtual presentation and trunk show from Cristina De Miranda – Thru-Quilting: My Journey Thru Modern Quilting. \n\n\n\nCristina De Miranda is a modern quilter and pattern designer based out of Toronto. She is the designer behind Ships & Violins https://shipsandviolins.com/. She will share details about her inspirations\, her approach to design\, and how pursuing a creative business isn’t so different from a long walk in the woods. \n\n\n\nWe will also have a reveal and vote on the mini quilts created from the June fat quarter swap. Your quilt should be 18″ x 22″ or 22″ x 18″\, and should make use of some of each of the three FQs you received during the June swap. Additional colors may be added as long as you use material from each of your three FQs. Bring your quilt to share what you made\, and enter to win a People’s Choice Award! Quilts will be on display at meeting check in\, and you can vote first thing before diving into our programming for the day. \n\n\n\nThis is a hybrid meeting with a virtual presentation. Join us at the Glendale Branch of the Indianapolis Public Library\, or via Zoom. \n\n\n\nWe welcome visitors to our meetings – it’s a great way to check out the IMQG and get more information about membership. Zoom links to hybrid meetings are sent to members prior to meetings – please reach out to board@indymqg.com to request a link to attend virtually as a guest. We look forward to seeing you there!
URL:https://www.indymqg.com/event/october-2024-meeting/
LOCATION:Glendale Branch\, Indianapolis Public Library\, 3660 E 62nd St\, Indianapolis\, IN\, 46220\, United States
END:VEVENT
BEGIN:VEVENT
DTSTART;TZID=America/Indiana/Indianapolis:20240915T140000
DTEND;TZID=America/Indiana/Indianapolis:20240915T160000
DTSTAMP:20260423T125132
CREATED:20240709T141541Z
LAST-MODIFIED:20240811T134554Z
UID:1937-1726408800-1726416000@www.indymqg.com
SUMMARY:September 2024 Meeting!
DESCRIPTION:September Meeting: Community Outreach Quilt Sew Day. QuiltCon is right around the corner – join us as we start sewing our Community Outreach Quilt. This quilt will be sold at QuiltCon 2025 and the proceeds will benefit local non-profit organizations in 2025 QuiltCon host city\, Phoenix. Bring your sewing machine\, extension cord and basic/preferred sewing supplies as we start sewing the blocks. Materials for the blocks will be provided. \n\n\n\nThis event is in person only at the Glendale Branch of the Indianapolis Public Library. \n\n\n\nWe welcome visitors to our meetings – it’s a great way to check out the IMQG and get more information about membership. Zoom links to hybrid meetings are sent to members prior to meetings – please reach out to board@indymqg.com to request a link to attend virtually as a guest. We look forward to seeing you there!
URL:https://www.indymqg.com/event/september-2024-meeting/
LOCATION:Glendale Branch\, Indianapolis Public Library\, 3660 E 62nd St\, Indianapolis\, IN\, 46220\, United States
END:VEVENT
BEGIN:VEVENT
DTSTART;TZID=America/Indiana/Indianapolis:20240818T140000
DTEND;TZID=America/Indiana/Indianapolis:20240818T160000
DTSTAMP:20260423T125132
CREATED:20240709T141433Z
LAST-MODIFIED:20240811T133634Z
UID:1935-1723989600-1723996800@www.indymqg.com
SUMMARY:August 2024 Meeting!
DESCRIPTION:August Meeting: Hybrid Workshop! IMQG member Mary Ellen Straughn presents Curves Ahead – strategies and techniques for sewing curves. Materials needed to participate: 2-3 fat quarters in a mixture of light and dark fabrics\, a rotary cutter\, and a small cutting mat. Please also bring your machines\, extension cords\, and basic/preferred sewing supplies. \n\n\n\nThis workshop will be broadcasted over Zoom during the hybrid meeting at the Glendale Branch of the Indianapolis Public Library. Join us in person or online!  \n\n\n\nWe welcome visitors to our meetings – it’s a great way to check out the IMQG and get more information about membership. Zoom links to hybrid meetings are sent to members prior to meetings – please reach out to board@indymqg.com to request a link to attend virtually as a guest. We look forward to seeing you there!
URL:https://www.indymqg.com/event/august-2024-meeting/
LOCATION:Glendale Branch\, Indianapolis Public Library\, 3660 E 62nd St\, Indianapolis\, IN\, 46220\, United States
END:VEVENT
BEGIN:VEVENT
DTSTART;TZID=America/Indiana/Indianapolis:20240721T140000
DTEND;TZID=America/Indiana/Indianapolis:20240721T160000
DTSTAMP:20260423T125132
CREATED:20240709T141319Z
LAST-MODIFIED:20240709T141319Z
UID:1933-1721570400-1721577600@www.indymqg.com
SUMMARY:July 2024 Meeting!
DESCRIPTION:July Meeting: Open Sew Day + Financial Presentation + library quilt display pick up! \n\n\n\nThe board will report on guild financial topics\, and then ballot items will be presented for a guild members vote if a quorum is present in person and via Zoom. Financial presentation and vote will take place in a hybrid format with voting through Zoom available. \n\n\n\nWe welcome visitors to our meetings – it’s a great way to check out the IMQG and get more information about membership. Zoom links to hybrid meetings are sent to members prior to meetings – please reach out to board@indymqg.com to request a link to attend virtually as a guest. We look forward to seeing you there!
URL:https://www.indymqg.com/event/july-2024-meeting/
LOCATION:Glendale Branch\, Indianapolis Public Library\, 3660 E 62nd St\, Indianapolis\, IN\, 46220\, United States
END:VEVENT
BEGIN:VEVENT
DTSTART;TZID=America/Indiana/Indianapolis:20240713T093000
DTEND;TZID=America/Indiana/Indianapolis:20240713T150000
DTSTAMP:20260423T125132
CREATED:20240709T141031Z
LAST-MODIFIED:20240709T141031Z
UID:1931-1720863000-1720882800@www.indymqg.com
SUMMARY:Road Trip to Quilter's Hall of Fame in Marion\, Indiana
DESCRIPTION:Meet in the parking lot at Regal UA Galaxy cinema near Shane Co at E 96th and I 69. https://maps.app.goo.gl/RSzyGYpBMaYo9uvy6 \n\n\n\n10:45 a.m. – 12:30 p.m. Quilter’s Hall of Fame featuring Bonnie Hunter’s “Got Scraps?” \n\n\n\n1:00 p.m. Ivanhoe’s Drive In\, Upland IN (100 flavor list of shakes and sundaes!) \n\n\n\n2:45 p.m. back to gather lot
URL:https://www.indymqg.com/event/road-trip-to-quilters-hall-of-fame-in-marion-indiana/
LOCATION:IN
END:VEVENT
BEGIN:VEVENT
DTSTART;TZID=America/Indiana/Indianapolis:20240623T140000
DTEND;TZID=America/Indiana/Indianapolis:20240623T160000
DTSTAMP:20260423T125132
CREATED:20240618T213103Z
LAST-MODIFIED:20240619T005008Z
UID:1921-1719151200-1719158400@www.indymqg.com
SUMMARY:June 2024 Meeting!
DESCRIPTION:June Meeting: Carry In and Fat Quarter Mystery Bag Sale. Bring a snack to share if you’d like! \n\n\n\nFat Quarter Mystery Bag Sale – create a fat quarter mystery bag by placing at least 3 fat quarters (18” x 22”) in a bag that conceals the contents. Bags cost $5 each. After initial purchase\, bag contents will be revealed. Cash\, check\, Venmo\, and Paypal accepted! \n\n\n\nFollow-Up mini fat quarter quilt challenge: use the contents of your mystery bag to create a quilt that’s 18″ x 22″ to share and win prizes at our October meeting.
URL:https://www.indymqg.com/event/june-2024-meeting/
LOCATION:Glendale Branch\, Indianapolis Public Library\, 3660 E 62nd St\, Indianapolis\, IN\, 46220\, United States
END:VEVENT
BEGIN:VEVENT
DTSTART;TZID=America/Indiana/Indianapolis:20240503T180000
DTEND;TZID=America/Indiana/Indianapolis:20240503T200000
DTSTAMP:20260423T125132
CREATED:20231017T183246Z
LAST-MODIFIED:20240316T220655Z
UID:1807-1714759200-1714766400@www.indymqg.com
SUMMARY:Exhibition 2024 Opening Reception
DESCRIPTION:Join us on Friday\, May 3\, for the opening reception of our latest exhibition. Drop in between 6:00 – 8:00 PM to mingle with local artists in the exhibition\, enjoy refreshments and peruse the quilts made by members of the Indy Modern Quilt Guild.
URL:https://www.indymqg.com/event/exhibition-2024-opening-reception/
LOCATION:Garfield Park Arts Center\, 2432 Conservatory Dr\, Indianapolis\, IN\, 46203\, United States
CATEGORIES:Special Events
END:VEVENT
END:VCALENDAR