BEGIN:VCALENDAR
VERSION:2.0
PRODID:-//Indy Modern Quilt Guild - ECPv6.15.20//NONSGML v1.0//EN
CALSCALE:GREGORIAN
METHOD:PUBLISH
X-WR-CALNAME:Indy Modern Quilt Guild
X-ORIGINAL-URL:https://www.indymqg.com
X-WR-CALDESC:Events for Indy Modern Quilt Guild
REFRESH-INTERVAL;VALUE=DURATION:PT1H
X-Robots-Tag:noindex
X-PUBLISHED-TTL:PT1H
BEGIN:VTIMEZONE
TZID:America/Indiana/Indianapolis
BEGIN:DAYLIGHT
TZOFFSETFROM:-0500
TZOFFSETTO:-0400
TZNAME:EDT
DTSTART:20250309T070000
END:DAYLIGHT
BEGIN:STANDARD
TZOFFSETFROM:-0400
TZOFFSETTO:-0500
TZNAME:EST
DTSTART:20251102T060000
END:STANDARD
BEGIN:DAYLIGHT
TZOFFSETFROM:-0500
TZOFFSETTO:-0400
TZNAME:EDT
DTSTART:20260308T070000
END:DAYLIGHT
BEGIN:STANDARD
TZOFFSETFROM:-0400
TZOFFSETTO:-0500
TZNAME:EST
DTSTART:20261101T060000
END:STANDARD
BEGIN:DAYLIGHT
TZOFFSETFROM:-0500
TZOFFSETTO:-0400
TZNAME:EDT
DTSTART:20270314T070000
END:DAYLIGHT
BEGIN:STANDARD
TZOFFSETFROM:-0400
TZOFFSETTO:-0500
TZNAME:EST
DTSTART:20271107T060000
END:STANDARD
END:VTIMEZONE
BEGIN:VEVENT
DTSTART;TZID=America/Indiana/Indianapolis:20260517T140000
DTEND;TZID=America/Indiana/Indianapolis:20260517T163000
DTSTAMP:20260423T062642
CREATED:20260104T205511Z
LAST-MODIFIED:20260104T205513Z
UID:2284-1779026400-1779035400@www.indymqg.com
SUMMARY:May 2026 IMQG Monthly Meeting
DESCRIPTION:Quilts as Commentary: A source of Healing Expression and Action with Lorraine Woodruff-Long \n\n\n\nMeeting will be Hybrid in-person and zoom
URL:https://www.indymqg.com/event/may-2026-imqg-monthly-meeting/
LOCATION:Glendale branch\, Indy Public Library\, 3360 E 62nd Street\, Indianapolis\, IN\, 46220\, United States
END:VEVENT
BEGIN:VEVENT
DTSTART;TZID=America/Indiana/Indianapolis:20260614T140000
DTEND;TZID=America/Indiana/Indianapolis:20260614T163000
DTSTAMP:20260423T062642
CREATED:20260104T205649Z
LAST-MODIFIED:20260211T161834Z
UID:2286-1781445600-1781454600@www.indymqg.com
SUMMARY:June 2026 IMQG Monthly Meeting - IN PERSON ONLY
DESCRIPTION:Block Printing Workshop Led by Laura Houston \n\n\n\nMeeting will be in-person only
URL:https://www.indymqg.com/event/june-2026-imqg-monthly-meeting/
LOCATION:Glendale branch\, Indy Public Library\, 3360 E 62nd Street\, Indianapolis\, IN\, 46220\, United States
END:VEVENT
BEGIN:VEVENT
DTSTART;TZID=America/Indiana/Indianapolis:20260719T140000
DTEND;TZID=America/Indiana/Indianapolis:20260719T163000
DTSTAMP:20260423T062642
CREATED:20260104T205858Z
LAST-MODIFIED:20260104T205901Z
UID:2288-1784469600-1784478600@www.indymqg.com
SUMMARY:July 2026 IMQG Monthly Meeting
DESCRIPTION:Find the Value in your Stash a color value study with Blair Stocker
URL:https://www.indymqg.com/event/july-2026-imqg-monthly-meeting/
LOCATION:Glendale branch\, Indy Public Library\, 3360 E 62nd Street\, Indianapolis\, IN\, 46220\, United States
END:VEVENT
BEGIN:VEVENT
DTSTART;TZID=America/Indiana/Indianapolis:20260725T090000
DTEND;TZID=America/Indiana/Indianapolis:20260725T120000
DTSTAMP:20260423T062642
CREATED:20260422T212318Z
LAST-MODIFIED:20260422T212326Z
UID:2449-1784970000-1784980800@www.indymqg.com
SUMMARY:Blair Stocker Virtual Workshop
DESCRIPTION:Registration & Payment required by May 17th \n\n\n\n15 Participants Required for Workshop \n\n\n\n\n\nOn July 25\, 2026\, starting at 9 am\, Indy MQG members have the option of participating in a bonus 3-hour workshop with Blair Stocker\, of WiseCraft Handmade. The title of the workshop is\, “Finding The Value in Your Stash”.   Embrace the unexpected beauty of fabric and color in your quilt designs! Blair will guide you through using the magic of color value and its transformative impact on your quilts. You’ll discover new ways to play with color and design your own unique scrappy quilt. This workshop is perfect for confident beginners and seasoned quilters alike – prepare to be inspired! \n\n\n\nThe cost of the workshop is $40 for current IMQG members or $50 for non-members\, payable through the PayPal link below.  There is a minimum of 15 participants needed for the workshop to be held.  The deadline for sign up is Sunday\, May 17.  If we do not have enough participants\, you will be notified and refunds will be issued at that time. \n\n\n\nThe Ruby Rulers will be distributed at the IMQG June and July general meetings.  If for some reason you cannot attend either meeting\, please email programmingchair@indymqg.com to arrange for a pick up location.
URL:https://www.indymqg.com/event/blair-stocker-virtual-workshop/
END:VEVENT
BEGIN:VEVENT
DTSTART;TZID=America/Indiana/Indianapolis:20260816T140000
DTEND;TZID=America/Indiana/Indianapolis:20260816T163000
DTSTAMP:20260423T062642
CREATED:20260104T210020Z
LAST-MODIFIED:20260104T210044Z
UID:2290-1786888800-1786897800@www.indymqg.com
SUMMARY:Aug 2026 IMQG Monthly Meeting
DESCRIPTION:Quiltcon Community Outreach Quilt Sew Day
URL:https://www.indymqg.com/event/aug-2026-imqg-monthly-meeting/
END:VEVENT
BEGIN:VEVENT
DTSTART;TZID=America/Indiana/Indianapolis:20260919T140000
DTEND;TZID=America/Indiana/Indianapolis:20260919T163000
DTSTAMP:20260423T062642
CREATED:20260104T210255Z
LAST-MODIFIED:20260322T161032Z
UID:2292-1789826400-1789835400@www.indymqg.com
SUMMARY:Sept 2026 IMQG Monthly Meeting
DESCRIPTION:Exhibition 2026 Artist Chat
URL:https://www.indymqg.com/event/sept-2026-imqg-monthly-meeting/
LOCATION:Garfield Park Arts Center\, 2432 Conservatory Dr\, Indianapolis\, IN\, 46203\, United States
END:VEVENT
BEGIN:VEVENT
DTSTART;TZID=America/Indiana/Indianapolis:20260925T090000
DTEND;TZID=America/Indiana/Indianapolis:20260928T030000
DTSTAMP:20260423T062642
CREATED:20260120T154753Z
LAST-MODIFIED:20260120T154756Z
UID:2328-1790326800-1790564400@www.indymqg.com
SUMMARY:2026 IMQG Fall Retreat
DESCRIPTION:Details are coming soon!
URL:https://www.indymqg.com/event/2026-imqg-fall-retreat/
LOCATION:McCormick’s Creek State Park\, 451 McCormick's Creek State Park\, Spencer\, Indiana\, 47460
END:VEVENT
BEGIN:VEVENT
DTSTART;TZID=America/Indiana/Indianapolis:20261018T140000
DTEND;TZID=America/Indiana/Indianapolis:20261018T163000
DTSTAMP:20260423T062642
CREATED:20260104T210437Z
LAST-MODIFIED:20260104T210445Z
UID:2294-1792332000-1792341000@www.indymqg.com
SUMMARY:Oct 2026 IMQG Monthly Meeting
DESCRIPTION:English paper piecing workshop led by Angie Romano
URL:https://www.indymqg.com/event/oct-2026-imqg-monthly-meeting/
LOCATION:Glendale branch\, Indy Public Library\, 3360 E 62nd Street\, Indianapolis\, IN\, 46220\, United States
END:VEVENT
BEGIN:VEVENT
DTSTART;TZID=America/Indiana/Indianapolis:20261115T140000
DTEND;TZID=America/Indiana/Indianapolis:20261115T163000
DTSTAMP:20260423T062642
CREATED:20260104T210626Z
LAST-MODIFIED:20260104T210629Z
UID:2297-1794751200-1794760200@www.indymqg.com
SUMMARY:Nov 2026 IMQG Monthly Meeting
DESCRIPTION:Creative Ruts: Tips for getting out of a creative rut with Tara Faughnan
URL:https://www.indymqg.com/event/nov-2026-imqg-monthly-meeting/
END:VEVENT
BEGIN:VEVENT
DTSTART;TZID=America/Indiana/Indianapolis:20261213T140000
DTEND;TZID=America/Indiana/Indianapolis:20261213T163000
DTSTAMP:20260423T062642
CREATED:20260104T210732Z
LAST-MODIFIED:20260104T210734Z
UID:2299-1797170400-1797179400@www.indymqg.com
SUMMARY:Dec 2026 IMQG Monthly Meeting
DESCRIPTION:Holiday Party
URL:https://www.indymqg.com/event/dec-2026-imqg-monthly-meeting/
LOCATION:Glendale branch\, Indy Public Library\, 3360 E 62nd Street\, Indianapolis\, IN\, 46220\, United States
END:VEVENT
END:VCALENDAR